BEGIN:VCALENDAR
VERSION:2.0
PRODID:-//hacksw/handcal//NONSGML v1.0//EN
BEGIN:VEVENT
UID:noreply@gaycalgary.com
DTSTAMP:20101031T000000
DTSTART:20101031T103000
DTEND:20101031T120000
SUMMARY:Boot Camp
DESCRIPTION:
LOCATION:Platoon FX (just off Deerfoot near McKnight)
	1351 Aviation Park NE
	Calgary
END:VEVENT
END:VCALENDAR