BEGIN:VCALENDAR
VERSION:2.0
PRODID:-//hacksw/handcal//NONSGML v1.0//EN
BEGIN:VEVENT
UID:noreply@gaycalgary.com
DTSTAMP:20100915T000000
DTSTART:20100915T190000
DTEND:20100915T190000
SUMMARY:Rainbow Riders Bowling League
DESCRIPTION:$17.00 / night.\n
	
LOCATION:Let's Bowl
	2916 5th Ave NE
	Calgary
END:VEVENT
END:VCALENDAR