BEGIN:VCALENDAR
VERSION:2.0
PRODID:-//hacksw/handcal//NONSGML v1.0//EN
BEGIN:VEVENT
UID:noreply@gaycalgary.com
DTSTAMP:20101108T000000
DTSTART:20101108T194500
DTEND:20101108T211500
SUMMARY:Yoga
DESCRIPTION:$120 (10 sessions); $14 drop-ins open to all levels.&nbsp; Apollo membership is required.\n
	
LOCATION:World Tree Studio
	812 Edmonton Trail NE
	Calgary\, AB
END:VEVENT
END:VCALENDAR