BEGIN:VCALENDAR
VERSION:2.0
PRODID:-//hacksw/handcal//NONSGML v1.0//EN
BEGIN:VEVENT
UID:noreply@gaycalgary.com
DTSTAMP:20101018T000000
DTSTART:20101018T201500
DTEND:20101018T214500
SUMMARY:Squash
DESCRIPTION:All skill levels welcome.\n
	
LOCATION:Recreation Centre
	Mount Royal University
END:VEVENT
END:VCALENDAR