BEGIN:VCALENDAR
VERSION:2.0
PRODID:-//hacksw/handcal//NONSGML v1.0//EN
BEGIN:VEVENT
UID:noreply@gaycalgary.com
DTSTAMP:20100908T000000
DTSTART:20100908T200000
DTEND:20100908T020000
SUMMARY:Mastermind Trivia
DESCRIPTION:
LOCATION:FAB (formerly Money Pennies) - Bar
	1742 10 AVE S.W. 
	Calgary
END:VEVENT
END:VCALENDAR