BEGIN:VCALENDAR
VERSION:2.0
PRODID:-//hacksw/handcal//NONSGML v1.0//EN
BEGIN:VEVENT
UID:noreply@gaycalgary.com
DTSTAMP:20080629T000000
DTSTART:20080629T130000
DTEND:20080629T180000
SUMMARY:Bears Movie Night
DESCRIPTION:Bears club of Edmonton meets for movies in the TV room at the Pride Centre of Edmonton.
LOCATION:Pride Centre of Edmonton
	95A Street and 111 Avenue
END:VEVENT
END:VCALENDAR