BEGIN:VCALENDAR
VERSION:2.0
PRODID:-//hacksw/handcal//NONSGML v1.0//EN
BEGIN:VEVENT
UID:noreply@gaycalgary.com
DTSTAMP:20100911T000000
DTSTART:20100911T100000
DTEND:20100911T100000
SUMMARY:Tennis
DESCRIPTION:Free.
LOCATION:U of C Courts
END:VEVENT
END:VCALENDAR