BEGIN:VCALENDAR
VERSION:2.0
PRODID:-//hacksw/handcal//NONSGML v1.0//EN
BEGIN:VEVENT
UID:noreply@gaycalgary.com
DTSTAMP:20101021T000000
DTSTART:20101021T180000
DTEND:20101021T190000
SUMMARY:Different Strokes - Workouts
DESCRIPTION:
LOCATION:SAIT pool
	1301 - 16 Ave NW
	Calgary\, Alberta
END:VEVENT
END:VCALENDAR