BEGIN:VCALENDAR
VERSION:2.0
PRODID:-//hacksw/handcal//NONSGML v1.0//EN
BEGIN:VEVENT
UID:noreply@gaycalgary.com
DTSTAMP:20100912T000000
DTSTART:20100912T130000
DTEND:20100912T150000
SUMMARY:Annual General Meeting
DESCRIPTION:Misc Youth is holding it's Annual General Meeting for anyone who wants to be involved on the board of directors to get the opportunity\, or if you just want to see what Misc Youth has been up to and plans on doing in the coming year. Come down\, let your voice be heard\, and help decide on the future of the Miscellaneous Youth Network.
LOCATION:The Old Y
	223 12th Ave SW
	Calgary\, AB
END:VEVENT
END:VCALENDAR