BEGIN:VCALENDAR
VERSION:2.0
PRODID:-//hacksw/handcal//NONSGML v1.0//EN
BEGIN:VEVENT
UID:noreply@gaycalgary.com
DTSTAMP:20100903T000000
DTSTART:20100903T200000
DTEND:20100903T200000
SUMMARY:Heterophobia
DESCRIPTION:Beyond Closed Doors Productions is proud to present: heterophobia!\n
	\n
	"heterophobia\, a dark comedy\, is a tall glass of gay with a twist of straight. In the world of heterophobia\, social norms are flipped on their ears\, and extreme role reversal ensues. Being gay is the norm\, and being straight is the 'deviance'.\n
	\n
	Our leading lady\, Grant\, comes home for a visit after a tough break-up\, with a secret that gets heavier by the second. As she struggles to hold on to her hidden cravings\, her Moms try to woo her with waffles\, clean underwear\, and the prospect of settling down and being artificially inseminated.\n
	\n
	Meanwhile\, her best friend Peter bursts onto the scene with erotic thoughts about Nathan Lane and a determination to cheer Grant up. But as Grant’s secret becomes too big to hold onto\, she is forced to make a choice about revealing who she really is."\n
	\n
	Playing September 1-11\, 2010\n
	\n
	Where: The MOTEL space in the Epcor Centre for Performing Arts\, 205 - 8 Ave SE\n
	\n
	When: Nightly at 8pm\n
	\n
	Sat/Sun matinees @ 2pm\n
	\n
	Talkbacks every Friday night\n
	\n
	Forums after every Saturday matinee\n
	\n
	Tickets: $15-$20\n
	\n
	Visit us at <FONT color=#0000ff>www.heterophobia.ca for all the details!\n
	<FONT color=#0000ff>heterophobia@me.com\n
	\n
	\n
	*VIP only performance for sponsors/partners on Sep 1?
LOCATION:The MOTEL in Epcor Centre
	205 - 8 Ave SE
	Calgary
END:VEVENT
END:VCALENDAR