BEGIN:VCALENDAR
VERSION:2.0
PRODID:-//hacksw/handcal//NONSGML v1.0//EN
BEGIN:VEVENT
UID:noreply@gaycalgary.com
DTSTAMP:20101007T000000
DTSTART:20101007T200000
DTEND:20101007T200000
SUMMARY:Alcoholic Anonymous
DESCRIPTION:
LOCATION:Hillhurst United Church
	1227 Kensington Close NW
	Calgary
END:VEVENT
END:VCALENDAR