BEGIN:VCALENDAR
VERSION:2.0
PRODID:-//hacksw/handcal//NONSGML v1.0//EN
BEGIN:VEVENT
UID:noreply@gaycalgary.com
DTSTAMP:20100904T000000
DTSTART:20100904T120000
DTEND:20100904T120000
SUMMARY:Calgary Dyke March
DESCRIPTION:The Calgary Dyke March is a walk to increase queer female visibility in the city and to celebrate all women who love women. It is meant to be an all-inclusive family friendly event for queer women\, their families\, friends\, and supporters.\n\n
	
	The first annual March will be held on Saturday\, September 4\, 2010 at noon. The March will start at the clock at Shaw Millennium Park\, follow 8th Ave to Century Gardens. After the march\, there will be space to gather and live performances by Hashmagandy and other local artists.\n\n
	
	Toni Vere &amp; Hashmagandy have signed on to perform in after the March! We're very excited to have a proud Calgarian and a proud Dyke as part of our entertainment. If you're unfamiliar with Toni or Hashmagandy\, please check out their pages on Facebook and their website for a schedule of their upcoming performances.\n\n
	
LOCATION:Shaw Millenium Park
END:VEVENT
END:VCALENDAR