BEGIN:VCALENDAR
VERSION:2.0
PRODID:-//hacksw/handcal//NONSGML v1.0//EN
BEGIN:VEVENT
UID:noreply@gaycalgary.com
DTSTAMP:20100929T000000
DTSTART:20100929T190000
DTEND:20100929T210000
SUMMARY:Coffee Night
DESCRIPTION:
LOCATION:GALAP - Office
	10113 - 103 Avenue
	Grande Prairie
END:VEVENT
END:VCALENDAR